BEGIN:VCALENDAR
VERSION:2.0
PRODID:-//Taos Gutters Bowling Alley - ECPv6.2.9//NONSGML v1.0//EN
CALSCALE:GREGORIAN
METHOD:PUBLISH
X-WR-CALNAME:Taos Gutters Bowling Alley
X-ORIGINAL-URL:https://taosbowling.com
X-WR-CALDESC:Events for Taos Gutters Bowling Alley
REFRESH-INTERVAL;VALUE=DURATION:PT1H
X-Robots-Tag:noindex
X-PUBLISHED-TTL:PT1H
BEGIN:VTIMEZONE
TZID:America/Denver
BEGIN:DAYLIGHT
TZOFFSETFROM:-0700
TZOFFSETTO:-0600
TZNAME:MDT
DTSTART:20230312T090000
END:DAYLIGHT
BEGIN:STANDARD
TZOFFSETFROM:-0600
TZOFFSETTO:-0700
TZNAME:MST
DTSTART:20231105T080000
END:STANDARD
END:VTIMEZONE
BEGIN:VEVENT
DTSTART;TZID=America/Denver:20230603T120000
DTEND;TZID=America/Denver:20230603T140000
DTSTAMP:20260422T231646
CREATED:20230603T133239Z
LAST-MODIFIED:20230603T144220Z
UID:9557-1685793600-1685800800@taosbowling.com
SUMMARY:FREE Bowling for League Sign Up
DESCRIPTION:FREE Bowling for League Sign Up Saturday & Sunday June 3-4 & 10-11\, 2023 12 – 2 pm \ncontact: \nShelly Ratigan \n545-770-14-16
URL:https://taosbowling.com/event/free-bowling-for-league-sign-up/
LOCATION:Gutters Bowling Alley\, 520 Plaza Canon Drive\, Taos\, NM\, 87571\, United States
CATEGORIES:Bowling League,Fun Events
ATTACH;FMTTYPE=image/jpeg:https://taosbowling.com/wp-content/uploads/2023/06/Gutters_Leagues-1-scaled.jpg
ORGANIZER;CN="Taos Bowling":MAILTO:elpradonm@gmail.com
END:VEVENT
BEGIN:VEVENT
DTSTART;TZID=America/Denver:20230604T120000
DTEND;TZID=America/Denver:20230604T140000
DTSTAMP:20260422T231646
CREATED:20230603T133352Z
LAST-MODIFIED:20230603T152956Z
UID:9560-1685880000-1685887200@taosbowling.com
SUMMARY:FREE Bowling for League Sign Up
DESCRIPTION:FREE Bowling for League Sign Up Saturday & Sunday June 3-4 & 10-11\, 2023 12 – 2 pm \ncontact: \nShelly Ratigan \n545-770-1416
URL:https://taosbowling.com/event/free-bowling-for-league-sign-up-2/
LOCATION:Gutters Bowling Alley\, 520 Plaza Canon Drive\, Taos\, NM\, 87571\, United States
CATEGORIES:Bowling League,Fun Events
ATTACH;FMTTYPE=image/jpeg:https://taosbowling.com/wp-content/uploads/2023/06/Gutters_Leagues-1-scaled.jpg
ORGANIZER;CN="Taos Bowling":MAILTO:elpradonm@gmail.com
END:VEVENT
BEGIN:VEVENT
DTSTART;TZID=America/Denver:20230610T120000
DTEND;TZID=America/Denver:20230610T140000
DTSTAMP:20260422T231646
CREATED:20230603T133454Z
LAST-MODIFIED:20230603T153034Z
UID:9564-1686398400-1686405600@taosbowling.com
SUMMARY:FREE Bowling for League Sign Up
DESCRIPTION:FREE Bowling for League Sign Up Saturday & Sunday June 3-4 & 10-11\, 2023 12 – 2 pm \ncontact: \nShelly Ratigan \n545-770-1416
URL:https://taosbowling.com/event/free-bowling-for-league-sign-up-4/
LOCATION:Gutters Bowling Alley\, 520 Plaza Canon Drive\, Taos\, NM\, 87571\, United States
CATEGORIES:Bowling League,Fun Events
ATTACH;FMTTYPE=image/jpeg:https://taosbowling.com/wp-content/uploads/2023/06/Gutters_Leagues-1-scaled.jpg
ORGANIZER;CN="Taos Bowling":MAILTO:elpradonm@gmail.com
END:VEVENT
BEGIN:VEVENT
DTSTART;TZID=America/Denver:20230611T120000
DTEND;TZID=America/Denver:20230611T140000
DTSTAMP:20260422T231646
CREATED:20230603T133426Z
LAST-MODIFIED:20230603T144107Z
UID:9562-1686484800-1686492000@taosbowling.com
SUMMARY:FREE Bowling for League Sign Up
DESCRIPTION:FREE Bowling for League Sign Up Saturday & Sunday June 3-4 & 10-11\, 2023 12 – 2 pm \ncontact: \nShelly Ratigan \n545-770-14-16
URL:https://taosbowling.com/event/free-bowling-for-league-sign-up-3/
LOCATION:Gutters Bowling Alley\, 520 Plaza Canon Drive\, Taos\, NM\, 87571\, United States
CATEGORIES:Bowling League,Fun Events
ATTACH;FMTTYPE=image/jpeg:https://taosbowling.com/wp-content/uploads/2023/06/Gutters_Leagues-1-scaled.jpg
ORGANIZER;CN="Taos Bowling":MAILTO:elpradonm@gmail.com
END:VEVENT
BEGIN:VEVENT
DTSTART;TZID=America/Denver:20230614T153000
DTEND;TZID=America/Denver:20230614T183000
DTSTAMP:20260422T231646
CREATED:20230603T152135Z
LAST-MODIFIED:20230603T152740Z
UID:9575-1686756600-1686767400@taosbowling.com
SUMMARY:Taos Bowling SENIOR League
DESCRIPTION:Taos Bowling Leagues \nYouth League\nages 7 – 12\nSundays 12 – 2 pm \nSenior League\nages 60+\n3-person team\nWednesdays 3:30 – 6:30 pm \nIndustry League\n(ALL restaurant staff)\n4-person team\nWednesdays 6:30 – 9:30 pm \nGirls  Night Out\n3-person team\nThursdays 6:30 – 9:30 pm \n\ncontact: Shelly Ratigan 545-770-1416 \n* \n\n\nFun\, food\, drinks\, bowling!\n\n\nGutters Taos Bowling\n520 Plaza Cañon Dr\, Taos\, NM 87571\n575-758-2695\nTaosBowling.com\n@TaosBowling
URL:https://taosbowling.com/event/taos-bowling-senior-league/
LOCATION:Gutters Bowling Alley\, 520 Plaza Canon Drive\, Taos\, NM\, 87571\, United States
CATEGORIES:Bowling League
ATTACH;FMTTYPE=image/jpeg:https://taosbowling.com/wp-content/uploads/2023/06/Gutters_Leagues-1-scaled.jpg
ORGANIZER;CN="Taos Bowling":MAILTO:elpradonm@gmail.com
END:VEVENT
BEGIN:VEVENT
DTSTART;TZID=America/Denver:20230614T183000
DTEND;TZID=America/Denver:20230614T213000
DTSTAMP:20260422T231646
CREATED:20230603T152405Z
LAST-MODIFIED:20230603T152714Z
UID:9577-1686767400-1686778200@taosbowling.com
SUMMARY:Taos Bowling INDUSTRY League
DESCRIPTION:Taos Bowling Leagues \nYouth League\nages 7 – 12\nSundays 12 – 2 pm \nSenior League\nages 60+\n3-person team\nWednesdays 3:30 – 6:30 pm \nIndustry League\n(ALL restaurant staff)\n4-person team\nWednesdays 6:30 – 9:30 pm \nGirls  Night Out\n3-person team\nThursdays 6:30 – 9:30 pm \n\ncontact: Shelly Ratigan 545-770-1416 \n* \n\n\nFun\, food\, drinks\, bowling!\n\n\nGutters Taos Bowling\n520 Plaza Cañon Dr\, Taos\, NM 87571\n575-758-2695\nTaosBowling.com\n@TaosBowling
URL:https://taosbowling.com/event/taos-bowling-industry-league/
LOCATION:Gutters Bowling Alley\, 520 Plaza Canon Drive\, Taos\, NM\, 87571\, United States
CATEGORIES:Bowling League
ATTACH;FMTTYPE=image/jpeg:https://taosbowling.com/wp-content/uploads/2023/06/Gutters_Leagues-1-scaled.jpg
ORGANIZER;CN="Taos Bowling":MAILTO:elpradonm@gmail.com
END:VEVENT
BEGIN:VEVENT
DTSTART;TZID=America/Denver:20230615T183000
DTEND;TZID=America/Denver:20230615T213000
DTSTAMP:20260422T231646
CREATED:20230603T152622Z
LAST-MODIFIED:20230603T152622Z
UID:9579-1686853800-1686864600@taosbowling.com
SUMMARY:Taos Bowling GIRLS NIGHT OUT League
DESCRIPTION:Taos Bowling Leagues \nYouth League\nages 7 – 12\nSundays 12 – 2 pm \nSenior League\nages 60+\n3-person team\nWednesdays 3:30 – 6:30 pm \nIndustry League\n(ALL restaurant staff)\n4-person team\nWednesdays 6:30 – 9:30 pm \nGirls  Night Out\n3-person team\nThursdays 6:30 – 9:30 pm \n\ncontact: Shelly Ratigan 545-770-1416 \n* \n\n\nFun\, food\, drinks\, bowling!\n\n\nGutters Taos Bowling\n520 Plaza Cañon Dr\, Taos\, NM 87571\n575-758-2695\nTaosBowling.com\n@TaosBowling
URL:https://taosbowling.com/event/taos-bowling-girlsnight-league/
LOCATION:Gutters Bowling Alley\, 520 Plaza Canon Drive\, Taos\, NM\, 87571\, United States
CATEGORIES:Bowling League
ATTACH;FMTTYPE=image/jpeg:https://taosbowling.com/wp-content/uploads/2023/06/Gutters_Leagues-1-scaled.jpg
ORGANIZER;CN="Taos Bowling":MAILTO:elpradonm@gmail.com
END:VEVENT
BEGIN:VEVENT
DTSTART;TZID=America/Denver:20230618T120000
DTEND;TZID=America/Denver:20230618T140000
DTSTAMP:20260422T231646
CREATED:20230603T151658Z
LAST-MODIFIED:20230603T151658Z
UID:9573-1687089600-1687096800@taosbowling.com
SUMMARY:Taos Bowling YOUTH League
DESCRIPTION:Taos Bowling Leagues \nYouth League\nages 7 – 12\nSundays 12 – 2 pm \nSenior League\nages 60+\n3-person team\nWednesdays 3:30 – 6:30 pm \nIndustry League\n(ALL restaurant staff)\n4-person team\nWednesdays 6:30 – 9:30 pm \nGirls  Night Out\n3-person team\nThursdays 6:30 – 9:30 pm \n\ncontact: Shelly Ratigan 545-770-1416 \n* \n\nFun\, food\, drinks\, bowling!\n\n\nGutters Taos Bowling\n520 Plaza Cañon Dr\, Taos\, NM 87571\n575-758-2695\nTaosBowling.com\n@TaosBowling
URL:https://taosbowling.com/event/taos-bowling-youth-league/
LOCATION:Gutters Bowling Alley\, 520 Plaza Canon Drive\, Taos\, NM\, 87571\, United States
CATEGORIES:Bowling League
ATTACH;FMTTYPE=image/jpeg:https://taosbowling.com/wp-content/uploads/2023/06/Gutters_Leagues-1-scaled.jpg
ORGANIZER;CN="Taos Bowling":MAILTO:elpradonm@gmail.com
END:VEVENT
END:VCALENDAR